Workbook
Name Actions: #REF!
Name _Responsibility: #REF!
Name NewOcc: #REF!
Name Detectability: #REF!
Name activos: #REF!
Name Occ: #REF!
Name FM: #REF!
Name actionsTaken: #REF!
Name _Detectability: #REF!
Name NewSeverity: #REF!
Name act: #REF!
Name _actionsTaken: #REF!
Name Effect: #REF!
Name _NewDetectability: #REF!
Name fecharev: #REF!
Name Responsibility: #REF!
Name luisa: #REF!
Name Item: #REF!
Name Controls: #REF!
Name NewDetectability: #REF!
Name Yes: #REF!
Name _NewSeverity: #REF!
Name adhkjsdjflasjf: #REF!
Name _NewOcc: #REF!
Name fechareg: #REF!
Name List1: #REF!
Name Severity: #REF!
Name sdjflasdfjñasdljfñ: #REF!
Name Mechanism: #REF!

Sheet Inv. Activos de Información
B2: MATRIZ DE ACTIVOS DE INFORMACIÓN | F2: Código:FT-SIG-SGR-008
F3: Versión: 0
F4: Fecha de Actualización: 04/May/2022
A6: A. Información del Activo | I6: B. Atributos del Activo | M6: C. Ubicación | P6: D. Propiedad | R6: E. Acceso | T6: F. Valoración del Activo de Información | Z6: G. Clasificación de la Información | AD6: H. Controles
A7: Nª | B7: Macroproceso | C7: Proceso | D7: Estándar | E7: Código | F7: Nombre | G7: Descripción | H7: Observaciones | I7: ¿El activo contiene datos personales? | J7: ¿El activo es susceptible de fraude o corrupción? | K7: ¿El activo es vital para la operación del proceso? | L7: ¿El activo es vital para la operación de la Organización? | M7: Física | N7: Digital | O7: Otro | P7: Propietario | Q7: Custodio | R7: Formato | S7: Usuarios | T7: Confidencialidad | V7: Integridad | X7: Disponiblidad | Y7: Criticidad | Z7: Confidencialidad | AA7: Integridad | AB7: Disponiblidad | AC7: Clasificación | AD7: Descripción | AE7: Tipo | AF7: Responsable
A8: 1 | B8: Gestión de las directrices organizacionales | C8: Comunicación corporativa | D8: CP-ACO-COR-002 | E8: ACO-COR-ACT-001 | F8: Información del plan de comunicación | G8: Información del plan de comunicación | H8: Incluye: - Plan de comunicación interna - Documentos soporte de implementación de actividades (boletines, mailing, piezas gráficas, etc) - Información de actividades con medios de comunicación regionales, comunicaciones externas de salud y temas corporativos que puedan ser requeridos - Excel planeación envios mes a mes para comunicaciones - Datos personales en eventos de Café con dirección y cumpleaños con BD que nos comparte Gestión humana (nombre, fecha cumpleaños) | I8: SI | J8: NO | K8: SI | L8: NO | N8: Drive líder de diseño - Con archivos editables piezas gráficas Drive Alejandro Gonzalez - excel planeacióncomunicaciones y envios Correo electrónico Ilustrator - Diseño | P8: Jefatura de comunicaciones | Q8: Jefatura de comunicaciones Infraestructura tecnologícas | R8: pdf, word, excel, jgp | S8: Equipo de comunicaciones | T8: Medio | V8: Alto | X8: Alto | Y8: =IF( OR(T8="Alto",V8="Alto",X8="Alto"),"Crítico","No Crítico") -> Crítico | Z8: =IF(T8='Clasificación'!$B$9,'Clasificación'!$C$9,IF(T8='Clasificación'!$B$10,'Clasificación'!$C$10,IF(OR(T8='Clasificación'!$B$11,T8='Clasificación'!$C$11),'Clasificación'!$C$11,"Por clasificar"))) -> Confidencial | AA8: =IF(V8='Clasificación'!$B$15,'Clasificación'!$C$15, IF(V8='Clasificación'!$B$16,'Clasificación'!$C$16,IF(V8='Clasificación'!$B$17,'Clasificación'!$C$17,"Por clasificar"))) -> Alta | AB8: =IF(X8='Clasificación'!$B$22,'Clasificación'!$C$22, IF(X8='Clasificación'!$B$23,'Clasificación'!$C$23,IF(X8='Clasificación'!$B$24,'Clasificación'!$C$24,"Por clasificar"))) -> Alta | AC8: UI - IA - DA | AD8: Ver matriz de riesgos de seguridad y privacidad
A9: 2 | B9: Gestión de las directrices organizacionales | C9: Comunicación corporativa | D9: CP-ACO-COR-002 | E9: ACO-COR-ACT-002 | F9: Información de riesgos reputacionales | G9: Información de riesgos reputacionales analizada desde el comité de crisis | H9: Incluye: - Matriz de riesgos reputacional - Acciones para tratar riesgos - Información relacionada con el monitoreo de medios de comunicación - Planes de comunicación y estrategias ante incidentes que afecten la reputación y apliquen activar el comité de crisis | I9: NO | J9: NO | K9: SI | L9: NO | N9: Correo electrónico y Drive de Alejandro Analista de comunicaciones internas - manejo de público interno Jefe de comunicaciones - manejo de público externo | P9: Jefatura de comunicaciones | Q9: Jefatura de comunicaciones | R9: piezas gráficas, imagenes, pdf, word | S9: Alejandro Sofia | T9: Alto | V9: Alto | X9: Alto | Y9: =IF( OR(T9="Alto",V9="Alto",X9="Alto"),"Crítico","No Crítico") -> Crítico | Z9: =IF(T9='Clasificación'!$B$9,'Clasificación'!$C$9,IF(T9='Clasificación'!$B$10,'Clasificación'!$C$10,IF(OR(T9='Clasificación'!$B$11,T9='Clasificación'!$C$11),'Clasificación'!$C$11,"Por clasificar"))) -> Altamente Confidencial | AA9: =IF(V9='Clasificación'!$B$15,'Clasificación'!$C$15, IF(V9='Clasificación'!$B$16,'Clasificación'!$C$16,IF(V9='Clasificación'!$B$17,'Clasificación'!$C$17,"Por clasificar"))) -> Alta | AB9: =IF(X9='Clasificación'!$B$22,'Clasificación'!$C$22, IF(X9='Clasificación'!$B$23,'Clasificación'!$C$23,IF(X9='Clasificación'!$B$24,'Clasificación'!$C$24,"Por clasificar"))) -> Alta | AC9: IC/R - IA - DA | AD9: Ver matriz de riesgos de seguridad y privacidad
A10: 3 | B10: Gestión de las directrices organizacionales | C10: Comunicación corporativa | D10: CP-ACO-COR-002 | E10: ACO-COR-ACT-003 | F10: Información relacionada con actividades de sostenibilidad | G10: Información relacionadas con actividades de sostenibilidad | H10: Incluye: - Plan de sostenibilidad (campañas, actividades) - Soportes y evidencias de implementación de acciones - Informe anual de sostenibilidad | I10: NO | J10: NO | K10: SI | L10: NO | N10: Drive comunicaciones internas comunicacionesinternas@sos.com.co Información de campañas, piezas Información general del plan de sostenibilidad en el Drive de Planeación | P10: Jefatura de comunicaciones | Q10: Jefatura de comunicaciones | R10: piezas gráficas, imagenes, pdf, word | S10: Alejandro Sofia | T10: Medio | V10: Medio | X10: Medio | Y10: =IF( OR(T10="Alto",V10="Alto",X10="Alto"),"Crítico","No Crítico") -> No Crítico | Z10: =IF(T10='Clasificación'!$B$9,'Clasificación'!$C$9,IF(T10='Clasificación'!$B$10,'Clasificación'!$C$10,IF(OR(T10='Clasificación'!$B$11,T10='Clasificación'!$C$11),'Clasificación'!$C$11,"Por clasificar"))) -> Confidencial | AA10: =IF(V10='Clasificación'!$B$15,'Clasificación'!$C$15, IF(V10='Clasificación'!$B$16,'Clasificación'!$C$16,IF(V10='Clasificación'!$B$17,'Clasificación'!$C$17,"Por clasificar"))) -> Medio | AB10: =IF(X10='Clasificación'!$B$22,'Clasificación'!$C$22, IF(X10='Clasificación'!$B$23,'Clasificación'!$C$23,IF(X10='Clasificación'!$B$24,'Clasificación'!$C$24,"Por clasificar"))) -> Medio | AC10: UI - IM - DM | AD10: Ver matriz de riesgos de seguridad y privacidad
A11: 4 | B11: Gestión de las directrices organizacionales | C11: Comunicación corporativa | D11: CP-ACO-COR-002 | E11: ACO-COR-ACT-004 | F11: Bases de datos de pacientes para comunicaciones | G11: Bases de datos de pacientes para comunicaciones segmentadas según los públicos objetivos | H11: Campañas de inducción a la demanda, jornadas, salud preventiva, noticias, etc. Las bases de datos tienen Nombre paciente, correo electrónico, sexo; segmentados dependiendo de la edad y género del paciente | I11: SI | J11: NO | K11: SI | L11: NO | N11: Equipo de cómputo de Alejandro Gonzalez | P11: Jefatura de comunicaciones | Q11: Jefatura de comunicaciones | R11: Excel | S11: Alejandro Gonzalez | T11: Alto | V11: Medio | X11: Medio | Y11: =IF( OR(T11="Alto",V11="Alto",X11="Alto"),"Crítico","No Crítico") -> Crítico | Z11: =IF(T11='Clasificación'!$B$9,'Clasificación'!$C$9,IF(T11='Clasificación'!$B$10,'Clasificación'!$C$10,IF(OR(T11='Clasificación'!$B$11,T11='Clasificación'!$C$11),'Clasificación'!$C$11,"Por clasificar"))) -> Altamente Confidencial | AA11: =IF(V11='Clasificación'!$B$15,'Clasificación'!$C$15, IF(V11='Clasificación'!$B$16,'Clasificación'!$C$16,IF(V11='Clasificación'!$B$17,'Clasificación'!$C$17,"Por clasificar"))) -> Medio | AB11: =IF(X11='Clasificación'!$B$22,'Clasificación'!$C$22, IF(X11='Clasificación'!$B$23,'Clasificación'!$C$23,IF(X11='Clasificación'!$B$24,'Clasificación'!$C$24,"Por clasificar"))) -> Medio | AC11: IC/R - IM - DM | AD11: Ver matriz de riesgos de seguridad y privacidad
A12: 5 | B12: Gestión Comercial | C12: Afiliación | D12: CP-GEC-AFI-001 | E12: GEC-AFI-ACT-001 | F12: Información de afiliaciones y novedades | G12: Considera la información de afiliaciones a servicios PBS, PBSS y PAC | H12: Incluye: - Formularios de afiliación - Soportes de afiliación - Soportes de novedades | I12: SI | J12: SI | K12: SI | L12: SI | N12: Génesis (Información de afiliación) Visos (Soportes) | P12: Gestión de ingresos / Dirección financiera | Q12: Soluciones informáticas | R12: Imágenes en caso de soportes | S12: Equipo gestión de ingresos Equipo comercial | T12: Alto | V12: Alto | X12: Alto | Y12: =IF( OR(T12="Alto",V12="Alto",X12="Alto"),"Crítico","No Crítico") -> Crítico | Z12: =IF(T12='Clasificación'!$B$9,'Clasificación'!$C$9,IF(T12='Clasificación'!$B$10,'Clasificación'!$C$10,IF(OR(T12='Clasificación'!$B$11,T12='Clasificación'!$C$11),'Clasificación'!$C$11,"Por clasificar"))) -> Altamente Confidencial | AA12: =IF(V12='Clasificación'!$B$15,'Clasificación'!$C$15, IF(V12='Clasificación'!$B$16,'Clasificación'!$C$16,IF(V12='Clasificación'!$B$17,'Clasificación'!$C$17,"Por clasificar"))) -> Alta | AB12: =IF(X12='Clasificación'!$B$22,'Clasificación'!$C$22, IF(X12='Clasificación'!$B$23,'Clasificación'!$C$23,IF(X12='Clasificación'!$B$24,'Clasificación'!$C$24,"Por clasificar"))) -> Alta | AC12: IC/R - IA - DA | AD12: Ver matriz de riesgos de seguridad y privacidad
A13: 6 | B13: Gestión Comercial | C13: Afiliación | D13: CP-GEC-AFI-001 | E13: GEC-AFI-ACT-002 | F13: Información de usuarios en BDUA | G13: Base de datos única de afiliados de la entidad | H13: Incluye: - Archivos planos con datos de los afiliados - Historicos de los procesos de BDUA | I13: SI | J13: SI | K13: SI | L13: SI | N13: Equipo de cómputo de Sandra Milena Perez para almacenar históricos (No tiene backup al momento) | P13: Gestión de ingresos / Dirección financiera | Q13: Soluciones informáticas | S13: Equipo gestión de ingresos | T13: Alto | V13: Alto | X13: Alto | Y13: =IF( OR(T13="Alto",V13="Alto",X13="Alto"),"Crítico","No Crítico") -> Crítico | Z13: =IF(T13='Clasificación'!$B$9,'Clasificación'!$C$9,IF(T13='Clasificación'!$B$10,'Clasificación'!$C$10,IF(OR(T13='Clasificación'!$B$11,T13='Clasificación'!$C$11),'Clasificación'!$C$11,"Por clasificar"))) -> Altamente Confidencial | AA13: =IF(V13='Clasificación'!$B$15,'Clasificación'!$C$15, IF(V13='Clasificación'!$B$16,'Clasificación'!$C$16,IF(V13='Clasificación'!$B$17,'Clasificación'!$C$17,"Por clasificar"))) -> Alta | AB13: =IF(X13='Clasificación'!$B$22,'Clasificación'!$C$22, IF(X13='Clasificación'!$B$23,'Clasificación'!$C$23,IF(X13='Clasificación'!$B$24,'Clasificación'!$C$24,"Por clasificar"))) -> Alta | AC13: IC/R - IA - DA | AD13: Ver matriz de riesgos de seguridad y privacidad
A14: 7 | B14: Gestión Comercial | C14: Afiliación | D14: CP-GEC-AFI-001 | E14: GEC-AFI-ACT-003 | F14: Información de cumplimiento en afiliaciones | G14: Considera los elementos para dar cumplimiento a solicitudes de ley, PQRD y hallazgos de auditorias para apoyar respuesta por ejemplo de restitución | H14: Incluye: - Respuesta a solicitudes de ley - Información que soporta respuesta a PQRD desde la aplicación de servicios al cliente (PQRD) - Planes de acción para cierre de hallazgos de auditoría - Planes de mejoramiento - Informes | I14: SI | J14: NO | K14: NO | L14: NO | N14: Equipos de cómputo y drive del equipo de trabajo del área | P14: Gestión de ingresos / Dirección financiera | Q14: Gestión de ingresos / Dirección financiera | S14: Equipo gestión de ingresos | T14: Bajo | V14: Medio | X14: Medio | Y14: =IF( OR(T14="Alto",V14="Alto",X14="Alto"),"Crítico","No Crítico") -> No Crítico | Z14: =IF(T14='Clasificación'!$B$9,'Clasificación'!$C$9,IF(T14='Clasificación'!$B$10,'Clasificación'!$C$10,IF(OR(T14='Clasificación'!$B$11,T14='Clasificación'!$C$11),'Clasificación'!$C$11,"Por clasificar"))) -> Pública | AA14: =IF(V14='Clasificación'!$B$15,'Clasificación'!$C$15, IF(V14='Clasificación'!$B$16,'Clasificación'!$C$16,IF(V14='Clasificación'!$B$17,'Clasificación'!$C$17,"Por clasificar"))) -> Medio | AB14: =IF(X14='Clasificación'!$B$22,'Clasificación'!$C$22, IF(X14='Clasificación'!$B$23,'Clasificación'!$C$23,IF(X14='Clasificación'!$B$24,'Clasificación'!$C$24,"Por clasificar"))) -> Medio | AC14: IP - IA - DA | AD14: Ver matriz de riesgos de seguridad y privacidad
A15: 8 | B15: Gestión Comercial | C15: Afiliación | D15: CP-GEC-AFI-001 | E15: GEC-AFI-ACT-004 | F15: Informe de gestión de afiliaciones | G15: Informe con análisis del logro y de necesidades a partir de los resultados de los indicadores de gestión, estrategia, riesgos e informes de auditoría | H15: Incluye: - Informes de gestión del proceso a partir de resultado interno - Informes de indicadores mensuales | I15: NO | J15: NO | K15: NO | L15: NO | N15: Servidor CLNEMESIS Equipos de cómputo del equipo de trabajo (No se tiene respaldo ni drive corporativo) | P15: Gestión de ingresos / Dirección financiera | Q15: Gestión de ingresos / Dirección financiera | S15: Equipo gestión de ingresos | T15: Bajo | V15: Alto | X15: Alto | Y15: =IF( OR(T15="Alto",V15="Alto",X15="Alto"),"Crítico","No Crítico") -> Crítico | Z15: =IF(T15='Clasificación'!$B$9,'Clasificación'!$C$9,IF(T15='Clasificación'!$B$10,'Clasificación'!$C$10,IF(OR(T15='Clasificación'!$B$11,T15='Clasificación'!$C$11),'Clasificación'!$C$11,"Por clasificar"))) -> Pública | AA15: =IF(V15='Clasificación'!$B$15,'Clasificación'!$C$15, IF(V15='Clasificación'!$B$16,'Clasificación'!$C$16,IF(V15='Clasificación'!$B$17,'Clasificación'!$C$17,"Por clasificar"))) -> Alta | AB15: =IF(X15='Clasificación'!$B$22,'Clasificación'!$C$22, IF(X15='Clasificación'!$B$23,'Clasificación'!$C$23,IF(X15='Clasificación'!$B$24,'Clasificación'!$C$24,"Por clasificar"))) -> Alta | AC15: IP - IA - DA | AD15: Ver matriz de riesgos de seguridad y privacidad
A16: 9 | B16: Gestión Comercial | C16: Afiliación | D16: CP-GEC-AFI-001 | E16: GEC-AFI-ACT-005 | F16: Scripts para actualizaciones y gestiones en la BDUA | G16: Script diseñados en el área para gestionar la información de afiliados en la BDUA | H16: N/A | I16: NO | J16: NO | K16: SI | L16: NO | N16: Servidor CLNEMESIS | P16: Gestión de ingresos / Dirección financiera | Q16: Gestión de ingresos / Dirección financiera | S16: Equipo gestión de ingresos | T16: Medio | V16: Alto | X16: Alto | Y16: =IF( OR(T16="Alto",V16="Alto",X16="Alto"),"Crítico","No Crítico") -> Crítico | Z16: =IF(T16='Clasificación'!$B$9,'Clasificación'!$C$9,IF(T16='Clasificación'!$B$10,'Clasificación'!$C$10,IF(OR(T16='Clasificación'!$B$11,T16='Clasificación'!$C$11),'Clasificación'!$C$11,"Por clasificar"))) -> Confidencial | AA16: =IF(V16='Clasificación'!$B$15,'Clasificación'!$C$15, IF(V16='Clasificación'!$B$16,'Clasificación'!$C$16,IF(V16='Clasificación'!$B$17,'Clasificación'!$C$17,"Por clasificar"))) -> Alta | AB16: =IF(X16='Clasificación'!$B$22,'Clasificación'!$C$22, IF(X16='Clasificación'!$B$23,'Clasificación'!$C$23,IF(X16='Clasificación'!$B$24,'Clasificación'!$C$24,"Por clasificar"))) -> Alta | AC16: UI - IA - DA | AD16: Ver matriz de riesgos de seguridad y privacidad
A17: 10 | B17: Gestión de redes integrales | C17: Compras en salud | D17: CP-GRI-GCS-001 | E17: GRI-GCS-ACT-001 | F17: Información de ofertas de prestadores de servicio | G17: Información de ofertas de prestadores de servicio | H17: Incluye: - Ofertas - Resultados de análisis técnico, económico, jurídico - Anexo tarifario y/o nota técnica actuarial - Acuerdo de voluntades - Anexos operativos | I17: SI | J17: SI | K17: SI | L17: SI | N17: Correo electrónico - distribuidos por regional Equipos de cómputo de cada encargado de revisar ItBid - oferta definitiva | P17: Coordinación de compras en salud | Q17: Coordinación de compras en salud | R17: pdf. word, excel | S17: Gerencia general Dirección comercial Dirección salud Dirección financiero Gerencia jurídica Riesgos y cumplimiento | T17: Alto | V17: Alto | X17: Alto | Y17: =IF( OR(T17="Alto",V17="Alto",X17="Alto"),"Crítico","No Crítico") -> Crítico | Z17: =IF(T17='Clasificación'!$B$9,'Clasificación'!$C$9,IF(T17='Clasificación'!$B$10,'Clasificación'!$C$10,IF(OR(T17='Clasificación'!$B$11,T17='Clasificación'!$C$11),'Clasificación'!$C$11,"Por clasificar"))) -> Altamente Confidencial | AA17: =IF(V17='Clasificación'!$B$15,'Clasificación'!$C$15, IF(V17='Clasificación'!$B$16,'Clasificación'!$C$16,IF(V17='Clasificación'!$B$17,'Clasificación'!$C$17,"Por clasificar"))) -> Alta | AB17: =IF(X17='Clasificación'!$B$22,'Clasificación'!$C$22, IF(X17='Clasificación'!$B$23,'Clasificación'!$C$23,IF(X17='Clasificación'!$B$24,'Clasificación'!$C$24,"Por clasificar"))) -> Alta | AC17: IC/R - IA - DA | AD17: Ver matriz de riesgos de seguridad y privacidad
A18: 11 | B18: Gestión de redes integrales | C18: Compras en salud | D18: CP-GRI-GCS-001 | E18: GRI-GCS-ACT-002 | F18: Información de contratos con prestadores de servicio | G18: Información de contratos con prestadores de servicio | H18: Incluye: - Minutas de contrato - Anexos contratos - Acuerdo de confidencialidad - Acta de comité de contratación | I18: SI | J18: SI | K18: SI | L18: SI | M18: Minuta de contrato en físico archivador bajo llave Acta de comité fisica con correo a través del cual se comparte | N18: ItBid - documentos de contrato para legalización Drive jurídico - copia de minuta Correo electrónico - actas de comités | P18: Coordinación de compras en salud | Q18: Coordinación de compras en salud | R18: pdf. word, excel | S18: Gerencia general Dirección comercial Dirección salud Dirección financiero Gerencia jurídica Riesgos y cumplimiento | T18: Alto | V18: Medio | X18: Medio | Y18: =IF( OR(T18="Alto",V18="Alto",X18="Alto"),"Crítico","No Crítico") -> Crítico | Z18: =IF(T18='Clasificación'!$B$9,'Clasificación'!$C$9,IF(T18='Clasificación'!$B$10,'Clasificación'!$C$10,IF(OR(T18='Clasificación'!$B$11,T18='Clasificación'!$C$11),'Clasificación'!$C$11,"Por clasificar"))) -> Altamente Confidencial | AA18: =IF(V18='Clasificación'!$B$15,'Clasificación'!$C$15, IF(V18='Clasificación'!$B$16,'Clasificación'!$C$16,IF(V18='Clasificación'!$B$17,'Clasificación'!$C$17,"Por clasificar"))) -> Medio | AB18: =IF(X18='Clasificación'!$B$22,'Clasificación'!$C$22, IF(X18='Clasificación'!$B$23,'Clasificación'!$C$23,IF(X18='Clasificación'!$B$24,'Clasificación'!$C$24,"Por clasificar"))) -> Medio | AC18: IC/R - IM - DM | AD18: Ver matriz de riesgos de seguridad y privacidad
A19: 12 | B19: Gestión de redes integrales | C19: Compras en salud | D19: CP-GRI-GCS-001 | E19: GRI-GCS-ACT-003 | F19: Información socialización de convenios | G19: Información socialización de convenios a nivel interno | H19: Incluye: - Socialización de convenios - Listas de asistencia | I19: SI | J19: NO | K19: SI | L19: NO | N19: Isolucion | P19: Coordinación de compras en salud | Q19: Coordinación de compras en salud | R19: Formato de aplicación | S19: Equipo de proceso | T19: Medio | V19: Medio | X19: Medio | Y19: =IF( OR(T19="Alto",V19="Alto",X19="Alto"),"Crítico","No Crítico") -> No Crítico | Z19: =IF(T19='Clasificación'!$B$9,'Clasificación'!$C$9,IF(T19='Clasificación'!$B$10,'Clasificación'!$C$10,IF(OR(T19='Clasificación'!$B$11,T19='Clasificación'!$C$11),'Clasificación'!$C$11,"Por clasificar"))) -> Confidencial | AA19: =IF(V19='Clasificación'!$B$15,'Clasificación'!$C$15, IF(V19='Clasificación'!$B$16,'Clasificación'!$C$16,IF(V19='Clasificación'!$B$17,'Clasificación'!$C$17,"Por clasificar"))) -> Medio | AB19: =IF(X19='Clasificación'!$B$22,'Clasificación'!$C$22, IF(X19='Clasificación'!$B$23,'Clasificación'!$C$23,IF(X19='Clasificación'!$B$24,'Clasificación'!$C$24,"Por clasificar"))) -> Medio | AC19: UI - IM - DM | AD19: Ver matriz de riesgos de seguridad y privacidad
A20: 13 | B20: Gestión Comercial | C20: Mercadeo | D20: CP-GEC-MER-001 | E20: GEC-MER-ACT-001 | F20: Información para la creación / actualización del plan de mercadeo | G20: Información para la creación / actualización del plan de mercadeo asociado al análisis de mercado y necesidades de SOS | H20: Incluye: - Investigación e insumos desde diferentes fuentes - Investigaciones internas sobre retiro de clientes - Información sobre oportunidades de negocio - Plan de mercadeo - Estrategias de mercadeo (captación PBS y PAC, posicionmianeto, fidelización, captación) - Tácticas para la ejecución de las estrategias - Cronograma de actividades - Piezas agencia in house - Informes de indicadores mensuales - BD de SOS para campañas | I20: SI | J20: NO | K20: SI | L20: NO | N20: Drive de mercadeo asociado a la cuenta de Paula Arenas Equipos de cómputo del equipo de Mercadeo con copia de algunos archivos Correo electrónico para envio de evidencias de actividades, informes Por correo electronico se comparta BD solo teléfonos con el coordinador del proveedor de Call center | O20: Llamadas por call center (el mismo proveedor de servicio al cliente) para investigaciones de retiro de clientes | P20: Jefatura de mercadeo | Q20: Jefatura de mercadeo | R20: Word Excel Pdf | S20: Equipo de mercadeo | T20: Alto | V20: Alto | X20: Alto | Y20: =IF( OR(T20="Alto",V20="Alto",X20="Alto"),"Crítico","No Crítico") -> Crítico | Z20: =IF(T20='Clasificación'!$B$9,'Clasificación'!$C$9,IF(T20='Clasificación'!$B$10,'Clasificación'!$C$10,IF(OR(T20='Clasificación'!$B$11,T20='Clasificación'!$C$11),'Clasificación'!$C$11,"Por clasificar"))) -> Altamente Confidencial | AA20: =IF(V20='Clasificación'!$B$15,'Clasificación'!$C$15, IF(V20='Clasificación'!$B$16,'Clasificación'!$C$16,IF(V20='Clasificación'!$B$17,'Clasificación'!$C$17,"Por clasificar"))) -> Alta | AB20: =IF(X20='Clasificación'!$B$22,'Clasificación'!$C$22, IF(X20='Clasificación'!$B$23,'Clasificación'!$C$23,IF(X20='Clasificación'!$B$24,'Clasificación'!$C$24,"Por clasificar"))) -> Alta | AC20: IC/R-IA-DA | AD20: Ver matriz de riesgos de seguridad y privacidad
A21: 14 | B21: Gestión de riesgos en salud | C21: Planeación de la atención | D21: CP-GRP-PAT-001 | E21: GRP-PAT-ACT-004 | F21: Información de cumplimiento planeación de la atención | G21: Considera los elementos para dar cumplimiento a solicitudes de ley, PQRD y hallazgos de auditorias | H21: Incluye: - Respuesta a solicitudes de ley - Respuesta a PQRD / por ejemplo, epidemiología - Planes de acción para cierre de hallazgos de auditoría - Planes de mejoramiento | I21: SI | J21: NO | K21: NO | L21: NO | N21: Correo electrónico | P21: Gerencia conocimiento en salud | Q21: Gerencia conocimiento en salud | R21: Excel CSV Archivos planos | S21: Personal Planeación de la atención | T21: Alto | V21: Medio | X21: Medio | Y21: =IF( OR(T21="Alto",V21="Alto",X21="Alto"),"Crítico","No Crítico") -> Crítico | Z21: =IF(T21='Clasificación'!$B$9,'Clasificación'!$C$9,IF(T21='Clasificación'!$B$10,'Clasificación'!$C$10,IF(OR(T21='Clasificación'!$B$11,T21='Clasificación'!$C$11),'Clasificación'!$C$11,"Por clasificar"))) -> Altamente Confidencial | AA21: =IF(V21='Clasificación'!$B$15,'Clasificación'!$C$15, IF(V21='Clasificación'!$B$16,'Clasificación'!$C$16,IF(V21='Clasificación'!$B$17,'Clasificación'!$C$17,"Por clasificar"))) -> Medio | AB21: =IF(X21='Clasificación'!$B$22,'Clasificación'!$C$22, IF(X21='Clasificación'!$B$23,'Clasificación'!$C$23,IF(X21='Clasificación'!$B$24,'Clasificación'!$C$24,"Por clasificar"))) -> Medio | AC21: IC/R-IM-DM | AD21: Ver matriz de riesgos de seguridad y privacidad
A22: 15 | B22: Gestión de riesgos en salud | C22: Planeación de la atención | D22: CP-GRP-PAT-001 | E22: GRP-PAT-ACT-002 | F22: Información caracterización individuales | G22: Información caracterización individuales | H22: Incluye: - Caracterizaciones individuales | I22: SI | J22: NO | K22: SI | L22: SI | N22: Correo electrónico Equipo de cómputo personal Planeación de la atención Drive carpeta Datos para tableros del líder de proceso | P22: Gerencia conocimiento en salud | Q22: Gerencia conocimiento en salud | R22: Excel CSV Archivos planos | S22: Personal Planeación de la atención | T22: Alto | V22: Alto | X22: Alto | Y22: Crítico | Z22: Altamente Confidencial | AA22: Alta | AB22: Alta | AC22: IC/R-IA-DA | AD22: Ver matriz de riesgos de seguridad y privacidad
A23: 16 | B23: Gestión de riesgos en salud | C23: Planeación de la atención | D23: CP-GRP-PAT-001 | E23: GRP-PAT-ACT-003 | F23: Información caracterización poblacional y por territorio | G23: Información caracterización poblacional y por territorio | H23: Incluye: - Caracterización poblacional - Caracterización por territorio | I23: NO | J23: NO | K23: SI | L23: SI | N23: Isolucion | P23: Gerencia conocimiento en salud | Q23: Gerencia conocimiento en salud | S23: Personal Planeación de la atención Personal de SOS con acceso a este recurso en Isolucion | T23: Medio | V23: Medio | X23: Medio | Y23: No Crítico | Z23: Confidencial | AA23: Alta | AB23: Alta | AC23: UI-IM-DM | AD23: Ver matriz de riesgos de seguridad y privacidad
A24: 17 | B24: Gestión de riesgos en salud | C24: Riesgos en la población | D24: CP-GRP-RPL-001 | E24: GRP-RPL-ACT-001 | F24: Información sobre programas de atención para riesgos | G24: Información sobre programas de atención para riesgos para afiliados | H24: Incluye: - Programa de atención - Modelos de gestión y atención - ANS con prestadores - Indicadores de proceso de atención Manejo de información similar a salud pública (funcionan con prestadores externos que habría que validar como manejan y comparten la info) | I24: NO | J24: NO | K24: SI | L24: SI | N24: Drive cuenta correo por líder de atención de cortes de edad Correo electrónico Equipos de cómputo del personal de riesgos en la población | P24: Gerencia conocimiento en salud | Q24: Gerencia conocimiento en salud | R24: Excel, word, pdf | S24: Equipo de trabajo de riesgos en la población | T24: Alto | V24: Medio | X24: Medio | Y24: =IF( OR(T24="Alto",V24="Alto",X24="Alto"),"Crítico","No Crítico") -> Crítico | Z24: =IF(T24='Clasificación'!$B$9,'Clasificación'!$C$9,IF(T24='Clasificación'!$B$10,'Clasificación'!$C$10,IF(OR(T24='Clasificación'!$B$11,T24='Clasificación'!$C$11),'Clasificación'!$C$11,"Por clasificar"))) -> Altamente Confidencial | AA24: =IF(V24='Clasificación'!$B$15,'Clasificación'!$C$15, IF(V24='Clasificación'!$B$16,'Clasificación'!$C$16,IF(V24='Clasificación'!$B$17,'Clasificación'!$C$17,"Por clasificar"))) -> Medio | AB24: =IF(X24='Clasificación'!$B$22,'Clasificación'!$C$22, IF(X24='Clasificación'!$B$23,'Clasificación'!$C$23,IF(X24='Clasificación'!$B$24,'Clasificación'!$C$24,"Por clasificar"))) -> Medio | AC24: IC/R-IM-DM | AD24: Ver matriz de riesgos de seguridad y privacidad
A25: 18 | B25: Gestión de riesgos en salud | C25: Salud pública | D25: CP-GRP-SLP-001 | E25: GRP-SLP-ACT-001 | F25: Información del modelo de atención de salud pública | G25: Información definida para los esquemas de atención de salud pública | H25: Incluye: - Documentos del modelo de atención de salud pública - Plan de implementación - Plan de divulgación - Cronograma de seguimiento a prestadores - Cronograma de capacitaciones - Actas de acompañamiento en procesos - BD cursos de vida (Resolución 3280) - tienes varias variables (depende de los tipos de seguimiento que se realicen, vacunación, exámenes, etc.) - para seguimiento a los usuarios por cortes de edad | I25: SI | J25: NO | K25: SI | L25: SI | N25: Drive cuenta correo por líder de atención de cortes de edad Correo electrónico Equipos de cómputo del personal de la Jefatura de salud pública | P25: Jefatura de salud pública | Q25: Jefatura de salud pública | R25: Excel, word, pdf | S25: Equipo de trabajo Jefatura de salud pública | T25: Alto | V25: Medio | X25: Medio | Y25: =IF( OR(T25="Alto",V25="Alto",X25="Alto"),"Crítico","No Crítico") -> Crítico | Z25: =IF(T25='Clasificación'!$B$9,'Clasificación'!$C$9,IF(T25='Clasificación'!$B$10,'Clasificación'!$C$10,IF(OR(T25='Clasificación'!$B$11,T25='Clasificación'!$C$11),'Clasificación'!$C$11,"Por clasificar"))) -> Altamente Confidencial | AA25: =IF(V25='Clasificación'!$B$15,'Clasificación'!$C$15, IF(V25='Clasificación'!$B$16,'Clasificación'!$C$16,IF(V25='Clasificación'!$B$17,'Clasificación'!$C$17,"Por clasificar"))) -> Medio | AB25: =IF(X25='Clasificación'!$B$22,'Clasificación'!$C$22, IF(X25='Clasificación'!$B$23,'Clasificación'!$C$23,IF(X25='Clasificación'!$B$24,'Clasificación'!$C$24,"Por clasificar"))) -> Medio | AC25: IC/R-IM-DM | AD25: Ver matriz de riesgos de seguridad y privacidad
A26: 19 | B26: Gestión de riesgos en salud | C26: Salud pública | D26: CP-GRP-SLP-001 | E26: GRP-SLP-ACT-002 | F26: Información sobre gestión de riesgos primarios | G26: Información sobre los programas de ampliado de inmunización (PAI) promoción y mantenimiento de la salud (PYM), vigilancia epidemiológica | H26: Incluye: - Información de actividades de protección específica y detección temprana (PE y DT) - Informes de ejecución de programas - Informes de visitas a prestadores y planes de acción - Boletines epidemiológicos - Información de eventos SIVIGILA / desde aquí tomamos infomación de referencia y cargamos archivos planos que nos entrega el instituto | I26: NO | J26: NO | K26: SI | L26: SI | N26: Correo electrónico Equipos de cómputo del personal de la Jefatura de salud pública | P26: Jefatura de salud pública | Q26: Jefatura de salud pública | R26: Excel, word, pdf | S26: Equipo de trabajo Jefatura de salud pública | T26: Medio | V26: Medio | X26: Medio | Y26: =IF( OR(T26="Alto",V26="Alto",X26="Alto"),"Crítico","No Crítico") -> No Crítico | Z26: =IF(T26='Clasificación'!$B$9,'Clasificación'!$C$9,IF(T26='Clasificación'!$B$10,'Clasificación'!$C$10,IF(OR(T26='Clasificación'!$B$11,T26='Clasificación'!$C$11),'Clasificación'!$C$11,"Por clasificar"))) -> Confidencial | AA26: =IF(V26='Clasificación'!$B$15,'Clasificación'!$C$15, IF(V26='Clasificación'!$B$16,'Clasificación'!$C$16,IF(V26='Clasificación'!$B$17,'Clasificación'!$C$17,"Por clasificar"))) -> Medio | AB26: =IF(X26='Clasificación'!$B$22,'Clasificación'!$C$22, IF(X26='Clasificación'!$B$23,'Clasificación'!$C$23,IF(X26='Clasificación'!$B$24,'Clasificación'!$C$24,"Por clasificar"))) -> Medio | AC26: UI-IM-DM | AD26: Ver matriz de riesgos de seguridad y privacidad
A27: 20 | B27: Gestión de riesgos en salud | C27: Salud pública | D27: CP-GRP-SLP-001 | E27: GRP-SLP-ACT-003 | F27: Información sobre seguimiento y monitoreo de usuarios | G27: Información sobre el seguimiento a casos de usuarios | H27: Incluye: - Soportes de seguimiento de casos de usuarios / lo hacemos uno a uno (seguimiento de demanda inducida) | I27: SI | J27: NO | K27: SI | L27: SI | N27: Drive cuenta correo por líder de atención de cortes de edad Correo electrónico Equipos de cómputo del personal de la Jefatura de salud pública | P27: Jefatura de salud pública | Q27: Jefatura de salud pública | R27: Excel, word, pdf | S27: Equipo de trabajo Jefatura de salud pública | T27: Alto | V27: Alto | X27: Alto | Y27: =IF( OR(T27="Alto",V27="Alto",X27="Alto"),"Crítico","No Crítico") -> Crítico | Z27: =IF(T27='Clasificación'!$B$9,'Clasificación'!$C$9,IF(T27='Clasificación'!$B$10,'Clasificación'!$C$10,IF(OR(T27='Clasificación'!$B$11,T27='Clasificación'!$C$11),'Clasificación'!$C$11,"Por clasificar"))) -> Altamente Confidencial | AA27: =IF(V27='Clasificación'!$B$15,'Clasificación'!$C$15, IF(V27='Clasificación'!$B$16,'Clasificación'!$C$16,IF(V27='Clasificación'!$B$17,'Clasificación'!$C$17,"Por clasificar"))) -> Alta | AB27: =IF(X27='Clasificación'!$B$22,'Clasificación'!$C$22, IF(X27='Clasificación'!$B$23,'Clasificación'!$C$23,IF(X27='Clasificación'!$B$24,'Clasificación'!$C$24,"Por clasificar"))) -> Alta | AC27: IC/R-IA-DA | AD27: Ver matriz de riesgos de seguridad y privacidad
A28: 21 | B28: Gestión de riesgos en salud | C28: Salud pública | D28: CP-GRP-SLP-001 | E28: GRP-SLP-ACT-004 | F28: Información de cumplimiento en salud pública | G28: Considera los elementos para dar cumplimiento a solicitudes de ley, PQRD y hallazgos de auditorias | H28: Copia de radicados o requerimientos, pero los principales en el drive de riesgos y cumplimiento | I28: SI | J28: NO | K28: NO | L28: NO | N28: Equipos de cómputo del personal de la Jefatura de salud pública | P28: Jefatura de salud pública | Q28: Jefatura de salud pública | R28: pdf | S28: Equipo de trabajo Jefatura de salud pública | T28: Medio | V28: Bajo | X28: Bajo | Y28: =IF( OR(T28="Alto",V28="Alto",X28="Alto"),"Crítico","No Crítico") -> No Crítico | Z28: =IF(T28='Clasificación'!$B$9,'Clasificación'!$C$9,IF(T28='Clasificación'!$B$10,'Clasificación'!$C$10,IF(OR(T28='Clasificación'!$B$11,T28='Clasificación'!$C$11),'Clasificación'!$C$11,"Por clasificar"))) -> Confidencial | AA28: =IF(V28='Clasificación'!$B$15,'Clasificación'!$C$15, IF(V28='Clasificación'!$B$16,'Clasificación'!$C$16,IF(V28='Clasificación'!$B$17,'Clasificación'!$C$17,"Por clasificar"))) -> Bajo | AB28: =IF(X28='Clasificación'!$B$22,'Clasificación'!$C$22, IF(X28='Clasificación'!$B$23,'Clasificación'!$C$23,IF(X28='Clasificación'!$B$24,'Clasificación'!$C$24,"Por clasificar"))) -> Bajo | AC28: UI-IB-DB | AD28: Ver matriz de riesgos de seguridad y privacidad
A29: 22 | B29: Gestión de riesgos en salud | C29: Salud pública | D29: CP-GRP-SLP-001 | E29: GRP-SLP-ACT-005 | F29: Informe de gestión de salud pública | G29: Informe con análisis del logro y de necesidades a partir de los resultados de los indicadores de gestión, estrategia, riesgos e informes de auditoría | H29: Incluye: - Informes de gestión del proceso a partir de resultado interno - Informes de seguimiento a indicadores y con los prestadores | I29: NO | J29: NO | K29: NO | L29: NO | N29: Correo electrónico Equipos de cómputo del personal de la Jefatura de salud pública | P29: Jefatura de salud pública | Q29: Jefatura de salud pública | R29: Excel, pdf | S29: Equipo de trabajo Jefatura de salud pública | T29: Medio | V29: Medio | X29: Medio | Y29: =IF( OR(T29="Alto",V29="Alto",X29="Alto"),"Crítico","No Crítico") -> No Crítico | Z29: =IF(T29='Clasificación'!$B$9,'Clasificación'!$C$9,IF(T29='Clasificación'!$B$10,'Clasificación'!$C$10,IF(OR(T29='Clasificación'!$B$11,T29='Clasificación'!$C$11),'Clasificación'!$C$11,"Por clasificar"))) -> Confidencial | AA29: =IF(V29='Clasificación'!$B$15,'Clasificación'!$C$15, IF(V29='Clasificación'!$B$16,'Clasificación'!$C$16,IF(V29='Clasificación'!$B$17,'Clasificación'!$C$17,"Por clasificar"))) -> Medio | AB29: =IF(X29='Clasificación'!$B$22,'Clasificación'!$C$22, IF(X29='Clasificación'!$B$23,'Clasificación'!$C$23,IF(X29='Clasificación'!$B$24,'Clasificación'!$C$24,"Por clasificar"))) -> Medio | AC29: UI-IM-DM | AD29: Ver matriz de riesgos de seguridad y privacidad
A30: 23 | B30: Gestión de riesgos en salud | C30: Salud pública | D30: CP-GRP-SLP-001 | E30: GRP-SLP-ACT-006 | F30: Auditorias GAUDI - entes territoriales | G30: Auditorias GAUDI - entes territoriales | H30: Podemos requerir información de los prestadores, donde se incluye historias clínicas. Puede ser por correo electrónico, o acceso a SAP en el caso de Comfandi | I30: SI | J30: NO | K30: SI | L30: NO | N30: Drive de los líderes por corte Correo electrónico | P30: Jefatura de salud pública | Q30: Jefatura de salud pública | R30: Excel, pdf | S30: Equipo de trabajo Jefatura de salud pública | T30: Alto | V30: Medio | X30: Medio | Y30: =IF( OR(T30="Alto",V30="Alto",X30="Alto"),"Crítico","No Crítico") -> Crítico | Z30: =IF(T30='Clasificación'!$B$9,'Clasificación'!$C$9,IF(T30='Clasificación'!$B$10,'Clasificación'!$C$10,IF(OR(T30='Clasificación'!$B$11,T30='Clasificación'!$C$11),'Clasificación'!$C$11,"Por clasificar"))) -> Altamente Confidencial | AA30: =IF(V30='Clasificación'!$B$15,'Clasificación'!$C$15, IF(V30='Clasificación'!$B$16,'Clasificación'!$C$16,IF(V30='Clasificación'!$B$17,'Clasificación'!$C$17,"Por clasificar"))) -> Medio | AB30: =IF(X30='Clasificación'!$B$22,'Clasificación'!$C$22, IF(X30='Clasificación'!$B$23,'Clasificación'!$C$23,IF(X30='Clasificación'!$B$24,'Clasificación'!$C$24,"Por clasificar"))) -> Medio | AC30: IC/R-IM-DM | AD30: Ver matriz de riesgos de seguridad y privacidad
A31: 24 | B31: Gestión administrativa | C31: Compras y contratación administrativa | D31: CP-GAD-CAD-001 | E31: GAD-CAD-001 | F31: Información del plan anual de compras | G31: Información para la creación, mantenimiento y seguimiento al plan anual de compras de bienes y servicios | H31: Incluye: - Matriz excel para control de gastos basado en presupuesto aprobado - Matriz de seguimiento a los procesos de compra - Actas de comité de compras - Criterios de evaluación de proveedores (para selección del proveedor y ejecución de contratos) - Categorias de compras - Evaluación de proveedores - Contratos, ordenes de servicio de compras - Información de proveedores Activo importante para la operación del proceso porque provee aspectos como: Contratación de kioscos y turneros, formularios de afiliación PBS, PAC, servicios tecnológicos - licencias, mesa de ayuda, impresión. | I31: SI | J31: SI | K31: SI | L31: SI | M31: Contratos en físico dado que no tenemos firma electrónica - archivo en el área de compras con llave | N31: ItBid Drive Financiera - compartido matriz de seguimiento a presupuesto y se guarda en Equipo de cómputo de Betty Perez (para consulta) Drive Tecnología - comparte presupuesto detallado para seguimiento (solo consulta) Drive contabilidad - comprobantes de amortización para seguimiento (solo consulta) | O31: Contratación y seguimiento al contrato a cargo de compras | P31: Gerencia de planeación finanicera | Q31: Gerencia de planeación finanicera | R31: pdf, word, excel, imagenes | S31: 5 perfiles en ItBid - Administador, Gerente, Comprador, Técnico y Visor Para perfiles Técnico y Visor desde el equipo de Compras se pueden asignar, los otros perfiles se requiere solicitar al proveedor previa autorización de equipo de compras | T31: Medio | V31: Alto | X31: Alto | Y31: =IF( OR(T31="Alto",V31="Alto",X31="Alto"),"Crítico","No Crítico") -> Crítico | Z31: =IF(T31='Clasificación'!$B$9,'Clasificación'!$C$9,IF(T31='Clasificación'!$B$10,'Clasificación'!$C$10,IF(OR(T31='Clasificación'!$B$11,T31='Clasificación'!$C$11),'Clasificación'!$C$11,"Por clasificar"))) -> Confidencial | AA31: =IF(V31='Clasificación'!$B$15,'Clasificación'!$C$15, IF(V31='Clasificación'!$B$16,'Clasificación'!$C$16,IF(V31='Clasificación'!$B$17,'Clasificación'!$C$17,"Por clasificar"))) -> Alta | AB31: =IF(X31='Clasificación'!$B$22,'Clasificación'!$C$22, IF(X31='Clasificación'!$B$23,'Clasificación'!$C$23,IF(X31='Clasificación'!$B$24,'Clasificación'!$C$24,"Por clasificar"))) -> Alta | AC31: UI-IA-DA | AD31: Ver en matriz de riesgos de seguridad y privacidad
A32: 25 | B32: Gestión financiera | C32: Concertación de pasivos con el prestador | D32: CP-GFF-GCP-001 | E32: GFF-GCP-ACT-001 | F32: Información de conciliación con prestadores | G32: Información de conciliación con prestadores | H32: Incluye: - Cronograma de conciliación de cartera y glosas - Estados de cuenta por pagar a prestadores (uso de fuentes conciliación pagos y fuente prestador -> para traer resultados desde varias tablas) - job (script automatizado) que se maneja desde el área y se carga en \\clhermes\Conciliaciones\Fuente - Actas de custodia acuerdos de pago con prestadores - desde mesa de conciliación 030, mesa de flujo de recursos - drive compartido equipo tesoreria - Informes correo electrónico con actas de custodia - Notas contables - Actas de resultado de conciliaciones que se comparten con IPS | I32: SI | J32: NO | K32: SI | L32: SI | M32: Carpetas físicas con Actas de custodia acuerdos de pago con prestadores - Archivo del área, rotuladas con fecha, mesa, etc. Pasa a archivo inactivo a custodia de Gestión documental Actas de conciliación con constancia de acuerdos con IPS digitalizadas después de firmas y aceptación | N32: Drive Johann Andres Londoño - información cronograma Portal web EPS - copia cronograma conciliación de cartera por circular 011/2020. Tambien se carga en la NRB de Supersalud semestral. Van con firma digital de representante legal y contador Equipos de cómputo - copias de cronogramas de carteras y glosas Correo electrónico - copia de informes y actas de custodia acuerdos de pago con prestadores Drive Gabriel Jaime Rincón - información de actas acuerdos de pago con prestadores Actas de conciliación con constancia de acuerdos con IPS - Isolucion con firmas físicas o digitales y soporte por correo electrónico | P32: Jefatura conciliación prestadores | Q32: Jefatura conciliación prestadores Infraestructura tecnológica | R32: Hojas de calculo, archivos planos, cvs | S32: Edición en drive líderes y jefe Resto de equipo solo acceso de consulta tienen grupo de google desde donde pueden controlar quien tiene acceso Editor jefe de tesoreria y analistas sobre drive de Actas de custodia acuerdos de pago con prestadores | T32: Medio | V32: Medio | X32: Alto | Y32: =IF( OR(T32="Alto",V32="Alto",X32="Alto"),"Crítico","No Crítico") -> Crítico | Z32: =IF(T32='Clasificación'!$B$9,'Clasificación'!$C$9,IF(T32='Clasificación'!$B$10,'Clasificación'!$C$10,IF(OR(T32='Clasificación'!$B$11,T32='Clasificación'!$C$11),'Clasificación'!$C$11,"Por clasificar"))) -> Confidencial | AA32: =IF(V32='Clasificación'!$B$15,'Clasificación'!$C$15, IF(V32='Clasificación'!$B$16,'Clasificación'!$C$16,IF(V32='Clasificación'!$B$17,'Clasificación'!$C$17,"Por clasificar"))) -> Medio | AB32: =IF(X32='Clasificación'!$B$22,'Clasificación'!$C$22, IF(X32='Clasificación'!$B$23,'Clasificación'!$C$23,IF(X32='Clasificación'!$B$24,'Clasificación'!$C$24,"Por clasificar"))) -> Alta | AC32: UI-IM-DM | AD32: Ver matriz de riesgos de seguridad y privacidad
A33: 26 | B33: Gestión financiera | C33: Cuentas médicas | D33: N/A | E33: GFF-CM-ACT-001 | F33: Información cuentas médicas | G33: Información cuentas médicas de prestadores y operadores logísticos para la prestación de servicios en salud | H33: Incluye: - Información de recepción, radicación, liquidación - Información de auditoria administrativa y médica documental - Interfaces contables - Notas débito frente a validación y revisión de las cuentas Recibimos información de registro, contratación, medicamentos, redes, entre otros, a partir de lo cual se ejecuta la revisión Entradas de información: - Clusters de radicación gestionado por un tercero (PyS procesos y servicios) - AFS - Entrada de medicamentos ambulatorios - manejo de archivos planos - FE Confamdi (facturación electrónica) - Recepción de devoluciones y facturas de PGP - entrega en oficina - Actas de seguimiento a la gestión del proveedor (PyS procesos y servicios) | I33: SI | J33: SI | K33: SI | L33: SI | M33: Facturas físicas - Luego de trámite se envia a Gestión documental | N33: App Silmed - recepción d información de prestadores y donde se procesa el 100% de las cuentas que llegan desde las diferentes vias Drive compartido con Salud (para OPS) - Cuenta de Olga Izquierdo Drive compartido facturado pago fijo - Cuenta de Jorge Buitron Drive compartido con conciliación con prestador - donde están reportes de las glosas y devoluciones, notas crédito. Cuenta de Angela Ortiz y Mauro Pedroza Drive compartido con Dirección adm y financiera - devoluciones y radicaciones. Cuenta de Mauro Pedroza Correo electrónico - solicitudes técnicas Equipo de cómputo Gabriel Bolivar - Actas de seguimiento al proveedor. Copia en correo y con Mauro Pedroza | P33: Jefatura de cuentas médicas | Q33: Jefatura de cuentas médicas | R33: excel, word, pdf | S33: Equipo auditores médicos Archivos compartidos entre coordinadores y jefe para mantener disponibilidad | T33: Alto | V33: Alto | X33: Alto | Y33: =IF( OR(T33="Alto",V33="Alto",X33="Alto"),"Crítico","No Crítico") -> Crítico | Z33: =IF(T33='Clasificación'!$B$9,'Clasificación'!$C$9,IF(T33='Clasificación'!$B$10,'Clasificación'!$C$10,IF(OR(T33='Clasificación'!$B$11,T33='Clasificación'!$C$11),'Clasificación'!$C$11,"Por clasificar"))) -> Altamente Confidencial | AA33: =IF(V33='Clasificación'!$B$15,'Clasificación'!$C$15, IF(V33='Clasificación'!$B$16,'Clasificación'!$C$16,IF(V33='Clasificación'!$B$17,'Clasificación'!$C$17,"Por clasificar"))) -> Alta | AB33: =IF(X33='Clasificación'!$B$22,'Clasificación'!$C$22, IF(X33='Clasificación'!$B$23,'Clasificación'!$C$23,IF(X33='Clasificación'!$B$24,'Clasificación'!$C$24,"Por clasificar"))) -> Alta | AC33: IC/R-IA-DA | AD33: Ver en matriz de riesgos seguridad y privacidad
A34: 27 | B34: Gestión financiera | C34: Cuentas médicas | D34: N/A | E34: GFF-CM-ACT-002 | F34: RIPS | G34: Registro individual de prestaciones en salud enviado por las IPS | H34: BD de los RIPS que entregan las IPS y consolidado que gestiona el proveedor (PyS procesos y servicios) con nombres, cedulas, diagnósticos, etc | I34: SI | J34: NO | K34: SI | L34: SI | N34: Tabla SQL en ruta file://clmitgard/Soporte/Rips/ | P34: Jefatura de cuentas médicas | Q34: Jefatura de cuentas médicas | R34: BD SQL | S34: Analista de procesos Supervisor de producción Coordinación de producción Coordinador de la unidad de análisis | T34: Alto | V34: Alto | X34: Alto | Y34: =IF( OR(T34="Alto",V34="Alto",X34="Alto"),"Crítico","No Crítico") -> Crítico | Z34: =IF(T34='Clasificación'!$B$9,'Clasificación'!$C$9,IF(T34='Clasificación'!$B$10,'Clasificación'!$C$10,IF(OR(T34='Clasificación'!$B$11,T34='Clasificación'!$C$11),'Clasificación'!$C$11,"Por clasificar"))) -> Altamente Confidencial | AA34: =IF(V34='Clasificación'!$B$15,'Clasificación'!$C$15, IF(V34='Clasificación'!$B$16,'Clasificación'!$C$16,IF(V34='Clasificación'!$B$17,'Clasificación'!$C$17,"Por clasificar"))) -> Alta | AB34: =IF(X34='Clasificación'!$B$22,'Clasificación'!$C$22, IF(X34='Clasificación'!$B$23,'Clasificación'!$C$23,IF(X34='Clasificación'!$B$24,'Clasificación'!$C$24,"Por clasificar"))) -> Alta | AC34: IC/R-IA-DA | AD34: Ver en matriz de riesgos seguridad y privacidad
A35: 28 | B35: Gestión administrativa | C35: Gestión de activos y mantenimiento | D35: CP-GAD-AFS-001 | E35: GAD-AFS-ACT-001 | F35: Información de actividades y servicios de gestión de activos y mantenimiento | G35: Información de actividades y servicios de gestión de activos y mantenimiento | H35: Incluye: - Plan de trabajo servicios de aseo y vigilancia / excel - Rutinas de aseo / formatos del proveedor e informe de gestión de proveedores - Actas físicas de seguridad, entrenamiento y capacitación - Plan de trabajo de mantenimientos preventivos - Programación de adquisición de activos fijos - Cronograma de pago de arrendamientos y servicios - Planeación soportes seguros / ItBid - Soportes y registros de la ejecución de actividades - Cuadros de control para registro de consumos - Informes de gestión mensual de los proveedores | I35: NO | J35: NO | K35: SI | L35: NO | M35: Actas físicas servicios de vigilancia Actas capacitaciones sobre botones pánico Archivo propio del área | N35: Facturas / informes de gestión de proveedores - correo electrónico Cuadros de control - Drive Excel plan de trabajo de aseo - Equipo de cómputo | O35: Wisner realiza backup sobre el equipo en disco duro externo (No tiene cifrado) | P35: Coordinación de mantenimiento | Q35: Coordinación de mantenimiento | R35: excel, word | S35: Coordinador de mantenimiento | T35: Alto | V35: Medio | X35: Medio | Y35: =IF( OR(T35="Alto",V35="Alto",X35="Alto"),"Crítico","No Crítico") -> Crítico | Z35: =IF(T35='Clasificación'!$B$9,'Clasificación'!$C$9,IF(T35='Clasificación'!$B$10,'Clasificación'!$C$10,IF(OR(T35='Clasificación'!$B$11,T35='Clasificación'!$C$11),'Clasificación'!$C$11,"Por clasificar"))) -> Altamente Confidencial | AA35: =IF(V35='Clasificación'!$B$15,'Clasificación'!$C$15, IF(V35='Clasificación'!$B$16,'Clasificación'!$C$16,IF(V35='Clasificación'!$B$17,'Clasificación'!$C$17,"Por clasificar"))) -> Medio | AB35: =IF(X35='Clasificación'!$B$22,'Clasificación'!$C$22, IF(X35='Clasificación'!$B$23,'Clasificación'!$C$23,IF(X35='Clasificación'!$B$24,'Clasificación'!$C$24,"Por clasificar"))) -> Medio | AC35: IC/R-IM_DM | AD35: Ver en matriz de riesgos de seguridad y privacidad
A36: 29 | B36: Gestión administrativa | C36: Gestión de activos y mantenimiento | D36: CP-GAD-AFS-001 | E36: GAD-AFS-ACT-002 | F36: Planes o esquemas de seguridad de sedes | G36: Planes o esquemas de seguridad de sedes de SOS | H36: N/A | I36: NO | J36: NO | K36: SI | L36: NO | N36: Drive Wisner Equipo cómputo Disco duro externo Físico (bajo llave) | P36: Coordinación de mantenimiento | Q36: Coordinación de mantenimiento | R36: pdf, formatos de imagenes | S36: Coordinador de mantenimiento | T36: Alto | V36: Medio | X36: Medio | Y36: =IF( OR(T36="Alto",V36="Alto",X36="Alto"),"Crítico","No Crítico") -> Crítico | Z36: =IF(T36='Clasificación'!$B$9,'Clasificación'!$C$9,IF(T36='Clasificación'!$B$10,'Clasificación'!$C$10,IF(OR(T36='Clasificación'!$B$11,T36='Clasificación'!$C$11),'Clasificación'!$C$11,"Por clasificar"))) -> Altamente Confidencial | AA36: =IF(V36='Clasificación'!$B$15,'Clasificación'!$C$15, IF(V36='Clasificación'!$B$16,'Clasificación'!$C$16,IF(V36='Clasificación'!$B$17,'Clasificación'!$C$17,"Por clasificar"))) -> Medio | AB36: =IF(X36='Clasificación'!$B$22,'Clasificación'!$C$22, IF(X36='Clasificación'!$B$23,'Clasificación'!$C$23,IF(X36='Clasificación'!$B$24,'Clasificación'!$C$24,"Por clasificar"))) -> Medio | AC36: IC/R-IM_DM | AD36: Ver en matriz de riesgos de seguridad y privacidad
A37: 30 | B37: Gestión administrativa | C37: Gestión de activos y mantenimiento | D37: CP-GAD-AFS-001 | E37: GAD-AFS-ACT-003 | F37: Información de seguridad electrónica | G37: Información de seguridad electrónica | H37: Incluye: - Información de CCTV - Información de Sistemas de intrusiòn - Información de Sistemas control de acceso | I37: NO | J37: NO | K37: SI | L37: NO | N37: Drive Wisner Equipo cómputo Disco duro externo Físico (bajo llave) | P37: Coordinación de mantenimiento | Q37: Coordinación de mantenimiento | R37: pdf, formatos de imagenes | S37: Coordinador de mantenimiento Empresa de vigilancia contratada | T37: Alto | V37: Medio | X37: Medio | Y37: =IF( OR(T37="Alto",V37="Alto",X37="Alto"),"Crítico","No Crítico") -> Crítico | Z37: =IF(T37='Clasificación'!$B$9,'Clasificación'!$C$9,IF(T37='Clasificación'!$B$10,'Clasificación'!$C$10,IF(OR(T37='Clasificación'!$B$11,T37='Clasificación'!$C$11),'Clasificación'!$C$11,"Por clasificar"))) -> Altamente Confidencial | AA37: =IF(V37='Clasificación'!$B$15,'Clasificación'!$C$15, IF(V37='Clasificación'!$B$16,'Clasificación'!$C$16,IF(V37='Clasificación'!$B$17,'Clasificación'!$C$17,"Por clasificar"))) -> Medio | AB37: =IF(X37='Clasificación'!$B$22,'Clasificación'!$C$22, IF(X37='Clasificación'!$B$23,'Clasificación'!$C$23,IF(X37='Clasificación'!$B$24,'Clasificación'!$C$24,"Por clasificar"))) -> Medio | AC37: IC/R-IM_DM | AD37: Ver en matriz de riesgos de seguridad y privacidad
A38: 31 | B38: Gestión de información | C38: Gestión actuarial | D38: N/A | E38: GI-GA-ACT-001 | F38: Información de riesgo actuarial | G38: Información de riesgo actuarial | H38: Incluye: - Notas técnicas (global y las que soportan primas de planes complementarios son de las más críticas) - Información de seguimiento (análisis e informes) - Matrices de riesgo actuarial - Copia de BD facturación cuentas médicas | I38: SI | J38: SI | K38: SI | L38: NO | N38: Drive John Walter Gomez carpeta principal de información del proceso Correo electrónico - algunos soportes de lo que maneja cada persona en el área | P38: Gerencia de actuaria | Q38: Gerencia de actuaria Infraestructura tecnológica | R38: pdf, txt, word, excel, python | S38: Equipo de actuaria | T38: Alto | V38: Medio | X38: Medio | Y38: =IF( OR(T38="Alto",V38="Alto",X38="Alto"),"Crítico","No Crítico") -> Crítico | Z38: =IF(T38='Clasificación'!$B$9,'Clasificación'!$C$9,IF(T38='Clasificación'!$B$10,'Clasificación'!$C$10,IF(OR(T38='Clasificación'!$B$11,T38='Clasificación'!$C$11),'Clasificación'!$C$11,"Por clasificar"))) -> Altamente Confidencial | AA38: =IF(V38='Clasificación'!$B$15,'Clasificación'!$C$15, IF(V38='Clasificación'!$B$16,'Clasificación'!$C$16,IF(V38='Clasificación'!$B$17,'Clasificación'!$C$17,"Por clasificar"))) -> Medio | AB38: =IF(X38='Clasificación'!$B$22,'Clasificación'!$C$22, IF(X38='Clasificación'!$B$23,'Clasificación'!$C$23,IF(X38='Clasificación'!$B$24,'Clasificación'!$C$24,"Por clasificar"))) -> Medio | AC38: IC/R-IM-DM | AD38: Ver en matriz de riesgos de seguridad y privacidad
A39: 32 | B39: Gestión administrativa | C39: Gestión documental y correspondencia | D39: CP-GAD-CAD-002 | E39: GAD-CAD-ACT-001 | F39: Información de radicación | G39: Información de radicación | H39: Incluye: - Información de seguimiento a radicación y distribución - BD hojas de cáculo con radicación de documentos que ingresan por ventanilla | I39: SI | J39: NO | K39: SI | L39: NO | N39: Sites.google SOS espacio servicios administrativos - BD hojas de cálculo Drive - desde aqui acceden a los documentos Responde - canalizar casos específicos como PQRS, moras de cartera correo electrónico - radicación facturación electrónica administrativa | P39: Coordinación de gestión documental | Q39: Coordinación de gestión documental Infraestructura tecnológicos | R39: excel | S39: Equipo de gestión documental | T39: Medio | V39: Medio | X39: Medio | Y39: =IF( OR(T39="Alto",V39="Alto",X39="Alto"),"Crítico","No Crítico") -> No Crítico | Z39: =IF(T39='Clasificación'!$B$9,'Clasificación'!$C$9,IF(T39='Clasificación'!$B$10,'Clasificación'!$C$10,IF(OR(T39='Clasificación'!$B$11,T39='Clasificación'!$C$11),'Clasificación'!$C$11,"Por clasificar"))) -> Confidencial | AA39: =IF(V39='Clasificación'!$B$15,'Clasificación'!$C$15, IF(V39='Clasificación'!$B$16,'Clasificación'!$C$16,IF(V39='Clasificación'!$B$17,'Clasificación'!$C$17,"Por clasificar"))) -> Medio | AB39: =IF(X39='Clasificación'!$B$22,'Clasificación'!$C$22, IF(X39='Clasificación'!$B$23,'Clasificación'!$C$23,IF(X39='Clasificación'!$B$24,'Clasificación'!$C$24,"Por clasificar"))) -> Medio | AC39: UI-IM-DM | AD39: Ver en matriz de riesgos de seguridad y privacidad
A40: 33 | B40: Gestión administrativa | C40: Gestión documental y correspondencia | D40: CP-GAD-CAD-002 | E40: GAD-CAD-ACT-002 | F40: Información de servicios de apoyo | G40: Relacionados con fotocopiado, correo, transporte de carga, suscripciones, diligencias | H40: Incluye: - Bases de datos para seguimiento de servicios de apoyo por proceso y por año - Soportes de prestación del servicio al área solicitante (guías, acuses de recibido) | I40: SI | J40: NO | K40: SI | L40: NO | N40: Sites.google SOS espacio servicios administrativos - BD hojas de cálculo Drive - desde aqui acceden a los documentos | P40: Coordinación de gestión documental | Q40: Coordinación de gestión documental | R40: excel | S40: Equipo de gestión documental | T40: Medio | V40: Medio | X40: Medio | Y40: =IF( OR(T40="Alto",V40="Alto",X40="Alto"),"Crítico","No Crítico") -> No Crítico | Z40: =IF(T40='Clasificación'!$B$9,'Clasificación'!$C$9,IF(T40='Clasificación'!$B$10,'Clasificación'!$C$10,IF(OR(T40='Clasificación'!$B$11,T40='Clasificación'!$C$11),'Clasificación'!$C$11,"Por clasificar"))) -> Confidencial | AA40: =IF(V40='Clasificación'!$B$15,'Clasificación'!$C$15, IF(V40='Clasificación'!$B$16,'Clasificación'!$C$16,IF(V40='Clasificación'!$B$17,'Clasificación'!$C$17,"Por clasificar"))) -> Medio | AB40: =IF(X40='Clasificación'!$B$22,'Clasificación'!$C$22, IF(X40='Clasificación'!$B$23,'Clasificación'!$C$23,IF(X40='Clasificación'!$B$24,'Clasificación'!$C$24,"Por clasificar"))) -> Medio | AC40: UI-IM-DM | AD40: Ver en matriz de riesgos de seguridad y privacidad
A41: 34 | B41: Gestión administrativa | C41: Gestión documental y correspondencia | D41: CP-GAD-CAD-002 | E41: GAD-CAD-ACT-003 | F41: Información de custodia de archivos | G41: Información de custodia de archivos. Desde equipo de gestión documental se hace el enlace con el proveedor y las áreas para los procesos de archivo | H41: Incluye: - Documentación en custodia - archivo activo e inactivo - Información de seguimiento sobre custodia de documentación - Soportes de destrucción de archivos (actas, evidencia, video, gráfica, certificados) - Soportes de donación de material de reciclaje - Informes de gestión del proveedor | I41: SI | J41: NO | K41: SI | L41: NO | M41: Guías Acuses de recibido cuando las areas lo pasan a gestión documental GRM Colombia - proveedor de gestión documental | N41: Sites.google SOS espacio servicios administrativos - BD hojas de cálculo Drive - desde aqui acceden a los documentos | P41: Coordinación de gestión documental | Q41: Coordinación de gestión documental | R41: excel | S41: Equipo de gestión documental | T41: Medio | V41: Medio | X41: Alto | Y41: =IF( OR(T41="Alto",V41="Alto",X41="Alto"),"Crítico","No Crítico") -> Crítico | Z41: =IF(T41='Clasificación'!$B$9,'Clasificación'!$C$9,IF(T41='Clasificación'!$B$10,'Clasificación'!$C$10,IF(OR(T41='Clasificación'!$B$11,T41='Clasificación'!$C$11),'Clasificación'!$C$11,"Por clasificar"))) -> Confidencial | AA41: =IF(V41='Clasificación'!$B$15,'Clasificación'!$C$15, IF(V41='Clasificación'!$B$16,'Clasificación'!$C$16,IF(V41='Clasificación'!$B$17,'Clasificación'!$C$17,"Por clasificar"))) -> Medio | AB41: =IF(X41='Clasificación'!$B$22,'Clasificación'!$C$22, IF(X41='Clasificación'!$B$23,'Clasificación'!$C$23,IF(X41='Clasificación'!$B$24,'Clasificación'!$C$24,"Por clasificar"))) -> Alta | AC41: UI-IM-DA | AD41: Ver en matriz de riesgos de seguridad y privacidad
A42: 35 | B42: Gestión de tecnología | C42: Infraestructura informática | D42: CP-GTE-GII-001 | E42: GTE-GII-ACT-001 | F42: Información de soporte técnico | G42: Información sobre requerimientos de soporte técnico a nivel tecnológico | H42: Incluye: - Tickets de soporte - Catálogos de servicios - Matriz de escalamiento | I42: SI | J42: NO | K42: SI | L42: NO | N42: Aranda - registro de tickets | P42: Coordinador Soporte Técnico y Microinformática Coordinador Infraestructura | Q42: Coordinador Soporte Técnico y Microinformática Coordinador Infraestructura | S42: Equipo de infraestructura y soluciones informáticas | T42: Medio | V42: Medio | X42: Medio | Y42: =IF( OR(T42="Alto",V42="Alto",X42="Alto"),"Crítico","No Crítico") -> No Crítico | Z42: =IF(T42='Clasificación'!$B$9,'Clasificación'!$C$9,IF(T42='Clasificación'!$B$10,'Clasificación'!$C$10,IF(OR(T42='Clasificación'!$B$11,T42='Clasificación'!$C$11),'Clasificación'!$C$11,"Por clasificar"))) -> Confidencial | AA42: =IF(V42='Clasificación'!$B$15,'Clasificación'!$C$15, IF(V42='Clasificación'!$B$16,'Clasificación'!$C$16,IF(V42='Clasificación'!$B$17,'Clasificación'!$C$17,"Por clasificar"))) -> Medio | AB42: =IF(X42='Clasificación'!$B$22,'Clasificación'!$C$22, IF(X42='Clasificación'!$B$23,'Clasificación'!$C$23,IF(X42='Clasificación'!$B$24,'Clasificación'!$C$24,"Por clasificar"))) -> Medio | AC42: UI-IM-DM | AD42: Ver en matriz de riesgos de seguridad y privacidad
...

Sheet Inv. Activos de Soporte
A4: A. Información del Activo de Soporte | I4: D. Propiedad
A5: Nª | B5: Dependencia/Área | D5: Proceso/ Procedimiento | E5: Nombre | F5: Descripción | G5: Observaciones | I5: Propietario | J5: Custodio
A7: 1 | B7: Gestión de las directrices organizacionales | C7: Comunicación corporativa | D7: CP-ACO-COR-002 | E7: Masterbase | F7: Aplicación para envio de comunicaciones externas | G7: N/A | I7: Jefatura de comunicaciones | J7: Jefatura de comunicaciones
A8: 2 | B8: Gestión de las directrices organizacionales | C8: Comunicación corporativa | D8: CP-ACO-COR-002 | E8: Portal web | F8: Sitio web de SOS | G8: Webmaster desde equipo de comunicaciones Mantenimiento con tecnologia | I8: Jefatura de comunicaciones | J8: Soluciones informáticas
A9: 3 | B9: Gestión de las directrices organizacionales | C9: Comunicación corporativa | D9: CP-ACO-COR-002 | E9: Drive | F9: Servicio de Workspace para almacenamiento de archivos | I9: Google | J9: Soluciones informáticas
